BEGIN:VCALENDAR
VERSION:2.0
PRODID:-//Pulari Victoria Inc - ECPv6.15.13.1//NONSGML v1.0//EN
CALSCALE:GREGORIAN
METHOD:PUBLISH
X-ORIGINAL-URL:https://pulari.org.au
X-WR-CALDESC:Events for Pulari Victoria Inc
REFRESH-INTERVAL;VALUE=DURATION:PT1H
X-Robots-Tag:noindex
X-PUBLISHED-TTL:PT1H
BEGIN:VTIMEZONE
TZID:UTC
BEGIN:STANDARD
TZOFFSETFROM:+0000
TZOFFSETTO:+0000
TZNAME:UTC
DTSTART:20250101T000000
END:STANDARD
END:VTIMEZONE
BEGIN:VEVENT
DTSTART;TZID=UTC:20260321T160000
DTEND;TZID=UTC:20260321T220000
DTSTAMP:20260425T105457
CREATED:20251017T080446Z
LAST-MODIFIED:20260226T060019Z
UID:5949-1774108800-1774130400@pulari.org.au
SUMMARY:Pass 2026
DESCRIPTION:PASS2026 – Ticket Booking Now Open!\nThe wait is over! Tickets are now LIVE for Pulari Annual Stage Show (PASS2026)\n🗓 Saturday\, 21 March 2026 4PM-10PM\n📍 Springvale City Hall\, VIC\nJoin us for one of the largest multicultural talent festivals filled with spectacular performances\, music\, dance\, and vibrant community spirit! 🌟\n🎟 Book your tickets now:\n👉 https://app.orgnyse.com.au/431/pass2026\nSeats are limited – grab yours today and be part of an unforgettable evening! 💃🕺
URL:https://pulari.org.au/event/pass-2026/
LOCATION:Springvale City Hall\, VIC
ATTACH;FMTTYPE=image/png:https://pulari.org.au/wp-content/uploads/2025/10/2026.png
END:VEVENT
END:VCALENDAR