BEGIN:VCALENDAR
VERSION:2.0
PRODID:-//Pulari Victoria Inc - ECPv6.15.13.1//NONSGML v1.0//EN
CALSCALE:GREGORIAN
METHOD:PUBLISH
X-WR-CALNAME:Pulari Victoria Inc
X-ORIGINAL-URL:https://pulari.org.au
X-WR-CALDESC:Events for Pulari Victoria Inc
REFRESH-INTERVAL;VALUE=DURATION:PT1H
X-Robots-Tag:noindex
X-PUBLISHED-TTL:PT1H
BEGIN:VTIMEZONE
TZID:UTC
BEGIN:STANDARD
TZOFFSETFROM:+0000
TZOFFSETTO:+0000
TZNAME:UTC
DTSTART:20250101T000000
END:STANDARD
END:VTIMEZONE
BEGIN:VEVENT
DTSTART;TZID=UTC:20260407T100000
DTEND;TZID=UTC:20260408T170000
DTSTAMP:20260425T132901
CREATED:20260226T061256Z
LAST-MODIFIED:20260226T061532Z
UID:6107-1775556000-1775667600@pulari.org.au
SUMMARY:Blood Donation Drive
DESCRIPTION:“The Power of Humanity; When you give blood\, you’re more than just a donor. You’re the Lifeblood of Australia” — Australian Red Cross Lifeblood. \nBlood donation is one of the simplest yet most powerful ways to save lives. Pulari Victoria Inc. is proud to continue supporting this life-saving initiative by bringing our community together for a cause that truly matters. \nIn 2025\, with the generous support of our members\, we successfully organised two blood donation drives in April and August. Each donation was a reminder of the compassion and generosity that defines the Pulari community. \nWe are excited to continue this meaningful effort in 2026\, with our next blood donation campaign and bulk booking scheduled for 7th & 8th April 2026. Did you know — one in three people in our area will need blood during their lives? Your small act of kindness today could be a lifeline for someone tomorrow. \nWe encourage everyone who is eligible to take part in this noble cause. If you are interested in donating\, please reach out to one of our friendly Pulari committee members\, who will be happy to assist you. \nTogether\, let’s continue to make a difference — one donation\, one life\, one community at a time. ❤️
URL:https://pulari.org.au/event/blood-donation-drive/
ATTACH;FMTTYPE=image/jpeg:https://pulari.org.au/wp-content/uploads/2026/02/Photo-from-Rahul-Raghavan.jpg
END:VEVENT
BEGIN:VEVENT
DTSTART;TZID=UTC:20260419T100000
DTEND;TZID=UTC:20260419T170000
DTSTAMP:20260425T132901
CREATED:20260226T063951Z
LAST-MODIFIED:20260226T071544Z
UID:6110-1776592800-1776618000@pulari.org.au
SUMMARY:Easter–Vishu Celebration
DESCRIPTION:In April Pulari Kids Wing came together to celebrate the vibrant festivals of Vishu and Easter\, bringing families and children together in a joyful atmosphere that beautifully reflected cultural tradition and community spirit. The celebrations highlighted the significance of Vishu through the sharing of blessings and gifts\, adding a meaningful and heartfelt dimension to the occasion and fostering a sense of togetherness among families. \nAdding to the excitement\, children enthusiastically participated in an Easter Egg Hunt\, filling the venue with laughter\, energy\, and delight as they searched for hidden treasures. The enthusiasm and happiness of the children truly captured the spirit of the celebrations\, making the event a memorable and enriching experience for everyone involved.
URL:https://pulari.org.au/event/easter-vishu-celebration/
ATTACH;FMTTYPE=image/png:https://pulari.org.au/wp-content/uploads/2026/02/VIshuEaster.png
END:VEVENT
BEGIN:VEVENT
DTSTART;TZID=UTC:20260517T100000
DTEND;TZID=UTC:20260517T170000
DTSTAMP:20260425T132901
CREATED:20260226T065717Z
LAST-MODIFIED:20260226T065717Z
UID:6113-1779012000-1779037200@pulari.org.au
SUMMARY:Sports/Family Fun Day
DESCRIPTION:A heartfelt event honouring mothers and celebrating their love\, strength\, and sacrifices.
URL:https://pulari.org.au/event/sports-family-fun-day/
ATTACH;FMTTYPE=image/jpeg:https://pulari.org.au/wp-content/uploads/2026/02/IMG-20251019-WA0231.jpg
END:VEVENT
BEGIN:VEVENT
DTSTART;TZID=UTC:20260607T100000
DTEND;TZID=UTC:20260607T170000
DTSTAMP:20260425T132901
CREATED:20260226T070725Z
LAST-MODIFIED:20260226T071322Z
UID:6116-1780826400-1780851600@pulari.org.au
SUMMARY:Biggest Morning Tea (Cancer Council Fundraiser)
DESCRIPTION:Australia’s Biggest Morning Tea is a community event that raises vital funds to make a big difference for those impacted by cancer. This year Pulari Victoria proudly hosted its second “Biggest Morning Tea” on Sunday\, 1st June 2025 at Clyde Public Hall. The funds raised were donated to Cancer Council. \nThe event featured insightful and engaging cancer awareness sessions delivered by a panel of speakers who were experts in their own fields. Pulari Victoria extends their sincere gratitude to Dr. Smriti Murali Krishna\, PhD (Biomedical Scientist)\, Dr. Dhanya Sooraj\, PhD (Senior Scientist\, AGRF)\, and Dr. Sreethi Purayath (Dentist). Adding a deeply personal and moving dimension to the event was a powerful cancer survival story shared by Chintu George\, which resonated strongly among attendees. \nThanks to the overwhelming generosity and support of participants\, volunteers\, and donors\, the event successfully raised over $2\,500 for the Cancer Council. These funds will contribute towards critical areas including research\, support services\, prevention initiatives\, and advocacy. \nPulari Victoria extends its heartfelt gratitude to everyone who made this event a success. Together\, we reaffirm our commitment to community care\, compassion\, and making a meaningful difference.
URL:https://pulari.org.au/event/biggest-morning-tea-cancer-council-fundraiser/
ATTACH;FMTTYPE=image/png:https://pulari.org.au/wp-content/uploads/2026/02/1i5uzubdtbhcco.png
END:VEVENT
END:VCALENDAR